BEGIN:VCALENDAR
VERSION:2.0
PRODID:-//eventon.com NONSGML v1.0//EN
CALSCALE:GREGORIAN
METHOD:PUBLISH
BEGIN:VEVENT
UID:69eb5beb7ceff
DTSTAMP:20260424T120251Z
DTSTART:20181206T173000Z
DTEND:20181206T190000Z
LOCATION:
SUMMARY:Jamie-Robi & String Quartet | Get Closer Concerts
DESCRIPTION:Jamie Whinchester és Hrutka Róbert olyan két meghatározó a
 lakja a magyar zenei életnek\,  akikhez számos igényes slágert\,  illet
 ve film- és reklámzenét köthetünk. Jamie és Robi rajongói mindig arr
 a a pillanatra várnak\,  amikor is a zenekar bejelenti\,  újra a klasszik
 us felállásban lép színpadra. Az elmúlt évek nagy csendeket hoztak a 
 formáció[..]\nhttps://momkult.hu/events/jamie-robi-string-quartet-get-clo
 ser-concerts/
URL:https://momkult.hu/events/jamie-robi-string-quartet-get-closer-concerts/
END:VEVENT
END:VCALENDAR