BEGIN:VCALENDAR
VERSION:2.0
PRODID:-//eventon.com NONSGML v1.0//EN
CALSCALE:GREGORIAN
METHOD:PUBLISH
BEGIN:VEVENT
UID:69eb88f356714
DTSTAMP:20260424T151459Z
DTSTART:20181111T170000Z
DTEND:20181111T181500Z
LOCATION:
SUMMARY:Hangutazás és hangfürdő
DESCRIPTION:„A látható világ káprázat és illúzió. Az egyetlen val
 óság a láthatatlan lélek. A világ a lélek álma.” A hangutazás és
  hangfürdő során nepáli hangtálakkal és egzotikus keleti hangszerekke
 l zenél Bársony Bálint\,  Jäger Dávid\,  és Sas András. Az általuk 
 létrehozott rezgésben\,  energiatérben beindulnak a test és lélek term
 észetes\,  öngyógyító mechanizmusai. Ezek[..]\nhttps://momkult.hu/even
 ts/hangutazas-es-hangfurdo-2/
URL:https://momkult.hu/events/hangutazas-es-hangfurdo-2/
END:VEVENT
END:VCALENDAR