BEGIN:VCALENDAR
VERSION:2.0
PRODID:-//eventon.com NONSGML v1.0//EN
CALSCALE:GREGORIAN
METHOD:PUBLISH
BEGIN:VEVENT
UID:69eb5f7de28da
DTSTAMP:20260424T121805Z
DTSTART:20181211T190000Z
DTEND:20181211T203000Z
LOCATION:
SUMMARY:Híres operaáriák | Csordás Klára - Harazdy Miklós
DESCRIPTION:CSORDÁS KLÁRA 6 évesen kezdte zenei tanulmányait egy\,  a K
 odály-módszert alkalmazó iskolában\,  s emellett zongoraórákat vett. 
 16 évesen a Bartók Béla Konzervatóriumban\,  majd a Liszt Ferenc Zeneak
 adémián folytatta tanulmányait\,  ahol operaénekesi és zenetudósi dip
 lomát is szerzett. Tanárai Fekete Mária és Kurtág György voltak. Szá
 mos mesterkurzuson vett részt többek közt Jevgenyij[..]\nhttps://momkult
 .hu/events/hires-operaariak-csordas-klara-harazdy-miklos/
URL:https://momkult.hu/events/hires-operaariak-csordas-klara-harazdy-miklos/
END:VEVENT
END:VCALENDAR