BEGIN:VCALENDAR
VERSION:2.0
PRODID:-//eventon.com NONSGML v1.0//EN
CALSCALE:GREGORIAN
METHOD:PUBLISH
BEGIN:VEVENT
UID:69eb6107857a0
DTSTAMP:20260424T122439Z
DTSTART:20181213T180000Z
DTEND:20181213T193000Z
LOCATION:
SUMMARY:„Tarka lepke\,  kis mese…” – Művek gyerekekről\,  gyerekeknek
DESCRIPTION:Párbeszédes előadásainkon a magyar és egyetemes művészet
  nagy témaköreit tekintjük át a klasszikus irodalmi és képzőművész
 eti műfajokon keresztül. Előadásainkon szó lesz történelemről\,  sz
 erelemről\,  ellentétekről\,  szegényekről és gazdagokról\,  a term
 szet változó jelentéseiről\,  s természetesen a művész önmagáról
  alkotott képéről is. Naplók\,  eposzok\,  önarcképek\,  csendéletek
 \,  himnuszok és még sok minden más. Egy[..]\nhttps://momkult.hu/events/
 tarka-lepke-kis-mese-muvek-gyerekekrol-gyerekeknek/
URL:https://momkult.hu/events/tarka-lepke-kis-mese-muvek-gyerekekrol-gyerekeknek/
END:VEVENT
END:VCALENDAR