BEGIN:VCALENDAR
VERSION:2.0
PRODID:-//eventon.com NONSGML v1.0//EN
CALSCALE:GREGORIAN
METHOD:PUBLISH
BEGIN:VEVENT
UID:69e6b89bba041
DTSTAMP:20260420T233659Z
DTSTART:20260421T180000Z
DTEND:20260421T200000Z
LOCATION:
SUMMARY:Jazz Sensation
DESCRIPTION:Jazz Sensation – a zenei élmény esszenciája egy estén A v
 ilágszerte népszerű Roby Lakatos hegedűvirtuóz és Tony Lakatos dzsess
 zszaxofonos testvérpár együtt ritkán lépnek színpadra\,  ezúttal mé
 gis közös fellépéssel ajándékozzák meg a közönséget\,  garantálv
 a ezzel a sziporkázó virtuozitást és zenei energiát illetve a könnyed
  eleganciával hömpölygő muzikalitást. Az esemény hangulatát emeli[..
 ]\nhttps://momkult.hu/events/jazz-sensation/
URL:https://momkult.hu/events/jazz-sensation/
END:VEVENT
END:VCALENDAR