BEGIN:VCALENDAR
VERSION:2.0
PRODID:-//eventon.com NONSGML v1.0//EN
CALSCALE:GREGORIAN
METHOD:PUBLISH
BEGIN:VEVENT
UID:69eb7e075d424
DTSTAMP:20260424T142823Z
DTSTART:20260430T180000Z
DTEND:20260430T204000Z
LOCATION:
SUMMARY:Piszkos Fred\,  a kapitány
DESCRIPTION:Rejtő Jenő örökzöld regényéből Korcsmáros Pál a Füle
 s szerkesztőségének megbízásából 1964-ben készített feledhetetlen 
 képregényt. Aki látta az általa megálmodott Piszkos Fredet\,  Fülig J
 immyt vagy Antonio főherceget\,  már nem is tudja másként elképzelni e
 zeket a figurákat. E zseniális művet – több mint negyven szereplővel
 ! – nyolc kiváló színész kelti életre egy[..]\nhttps://momkult.hu/ev
 ents/a-kepes-kiado-es-a-kulcs-soft-bemutatja-rejto-jeno-korcsmaros-pal-pisz
 kos-fred-a-kapitany/
URL:https://momkult.hu/events/a-kepes-kiado-es-a-kulcs-soft-bemutatja-rejto-jeno-korcsmaros-pal-piszkos-fred-a-kapitany/
END:VEVENT
END:VCALENDAR