BEGIN:VCALENDAR
VERSION:2.0
PRODID:-//eventon.com NONSGML v1.0//EN
CALSCALE:GREGORIAN
METHOD:PUBLISH
BEGIN:VEVENT
UID:69ea9502e7430
DTSTAMP:20260423T215410Z
DTSTART:20190411T183000Z
DTEND:20190411T200000Z
LOCATION:
SUMMARY:Mendelssohn est az Anima Musicae Kamarazenekarral
DESCRIPTION:Műsor: Felix Mendelssohn-Bartholdy: d-moll hegedűverseny &#82
 11; MWV O 3 Felix Mendelssohn-Bartholdy: d-moll hegedű-zongora kettősvers
 eny -MWV 04 &#8211; szünet &#8211; Felix Mendelssohn-Bartholdy: Oktett &#8
 211; Oktett op. 20 Haruka Nagao &#8211; hegedű Nagy Ervin &#8211; zongora 
 Anima Musicae Kamarazenekear (művészeti vezető: G. Horváth László)\nh
 ttps://momkult.hu/events/mendelssohn-est-az-anima-musicae-kamarazenekarral/
URL:https://momkult.hu/events/mendelssohn-est-az-anima-musicae-kamarazenekarral/
END:VEVENT
END:VCALENDAR