BEGIN:VCALENDAR
VERSION:2.0
PRODID:-//eventon.com NONSGML v1.0//EN
CALSCALE:GREGORIAN
METHOD:PUBLISH
BEGIN:VEVENT
UID:69eb72fb72211
DTSTAMP:20260424T134115Z
DTSTART:20181118T103000Z
DTEND:20181118T111500Z
LOCATION:
SUMMARY:A kíváncsi kiselefánt
DESCRIPTION:Klasszikus bábok\,  klasszikus mesék. Domi bábszínháza\nht
 tps://momkult.hu/events/a-kivancsi-kiselefant/
URL:https://momkult.hu/events/a-kivancsi-kiselefant/
END:VEVENT
END:VCALENDAR