BEGIN:VCALENDAR
VERSION:2.0
PRODID:-//eventon.com NONSGML v1.0//EN
CALSCALE:GREGORIAN
METHOD:PUBLISH
BEGIN:VEVENT
UID:69eb293c6b82c
DTSTAMP:20260424T082636Z
DTSTART:20190106T140000Z
DTEND:20190106T150000Z
LOCATION:
SUMMARY:Masha és a Medve
DESCRIPTION:Masha nyughatatlan kislány\,  aki mindig tele van energiával\
 ,  s nem bír a fenekén megülni. Így aztán nem csoda\,  hogy barátjáv
 al\,  a nyugis\,  lustácska medvével folyton elképesztő bonyodalomba ke
 veredik. Ezúttal egy fantasztikus karácsonyi kalandos nyomozásban talál
 ják magukat Rózival a malaccal\,  nyuszival\,  a farkas testvérekkel és
  egy pingvinnel. A történetben szerepel még[..]\nhttps://momkult.hu/even
 ts/masha-es-a-medve-copy/
URL:https://momkult.hu/events/masha-es-a-medve-copy/
END:VEVENT
END:VCALENDAR