BEGIN:VCALENDAR
VERSION:2.0
PRODID:-//eventon.com NONSGML v1.0//EN
CALSCALE:GREGORIAN
METHOD:PUBLISH
BEGIN:VEVENT
UID:69eb72d43c501
DTSTAMP:20260424T134036Z
DTSTART:20181123T193000Z
DTEND:20181123T213000Z
LOCATION:
SUMMARY:UrbÃ¡n Orsi - RÃ©vÃ©sz RichÃ¡rd DuÃ³ | HegyvidÃ©ki Smooth Jazz Klub
DESCRIPTION:Az &#8222;I Know You Love Me&#8221; c. lemez bemutatÃ³ koncertj
 e. A hazai jazz Ã©let kÃ©t kivÃ¡lÃ³sÃ¡ga\,  UrbÃ¡n Orsi Ã©nekes Ã©s RÃ©vÃ©s
 z RichÃ¡rd zongorista egy Ãºj\,  izgalmas lemezzel Ã¶rvendezteti meg az igÃ
 ©nyes zene kedvelÅ‘it. A koncerten a lemez dalai &#8211; soul Ã©s pop slÃ¡g
 erek\,  jazz Ã¶rÃ¶kzÃ¶ldek Ã©s latin kompozÃ­ciÃ³k csendÃ¼lnek fel[..]\nhtt
 ps://momkult.hu/events/urban-orsi-revesz-richard-duo-hegyvideki-smooth-jazz
 -club/
URL:https://momkult.hu/events/urban-orsi-revesz-richard-duo-hegyvideki-smooth-jazz-club/
END:VEVENT
END:VCALENDAR