BEGIN:VCALENDAR
VERSION:2.0
PRODID:-//eventon.com NONSGML v1.0//EN
CALSCALE:GREGORIAN
METHOD:PUBLISH
BEGIN:VEVENT
UID:69eb89074ba41
DTSTAMP:20260424T151519Z
DTSTART:20181102
DTEND:20181103
LOCATION:
SUMMARY:Egyetlen konstans a változó | Kiállítás Kázmér Sándor fotóiból
DESCRIPTION:&#8222;A tökéletes képeket megkomponálják\,  nagyszerűek 
 pedig csak vannak. Rá vagyunk szorulva a kegyelemnek a mozdulatára\,  egy
  olyan mozdulatra\,  amelyre minden műalkotásnak szüksége van\,  mely e
 gy olyan hatalomtól származik\,  amelyről semmiféle információ nincs\
 ,  a művész ennek a hatalomnak a manökenje. A pillanat az\,  amiben egy
  fotó a végletekig elvész\,  a történet\,  ami[..]\nhttps://momkult.hu
 /events/kiallitas-kazmer-sandor-fotoibol/
URL:https://momkult.hu/events/kiallitas-kazmer-sandor-fotoibol/
END:VEVENT
END:VCALENDAR