BEGIN:VCALENDAR
VERSION:2.0
PRODID:-//eventon.com NONSGML v1.0//EN
CALSCALE:GREGORIAN
METHOD:PUBLISH
BEGIN:VEVENT
UID:69eb0f5481a31
DTSTAMP:20260424T063604Z
DTSTART:20190125T190000Z
DTEND:20190125T203000Z
LOCATION:
SUMMARY:Legközelebb majd sikerül | Vámos Miklós önálló estje
DESCRIPTION:&#8222;Legközelebb majd sikerül.&#8221; Ludwig van Beethoven\
 ,  ha a zenészek hamisan játszottak\,  mindig azt mondta: Legközelebb ma
 jd sikerül. Márpedig majdnem mindig hamisan játszottak\,  a muzsikusokna
 k legalább a fele műkedvelő nemesember volt akkoriban. Új regényem kil
 enc év története\,  Beethoven kilenc szimfóniáján alapul. Az estemen 
 az én legutóbbi kilenc évemről szeretnék mesélni. Engem[..]\nhttps://
 momkult.hu/events/legkozelebb-majd-sikerul-vamos-miklos-onallo-estje/
URL:https://momkult.hu/events/legkozelebb-majd-sikerul-vamos-miklos-onallo-estje/
END:VEVENT
END:VCALENDAR