BEGIN:VCALENDAR
VERSION:2.0
PRODID:-//eventon.com NONSGML v1.0//EN
CALSCALE:GREGORIAN
METHOD:PUBLISH
BEGIN:VEVENT
UID:69eb60da40e3a
DTSTAMP:20260424T122354Z
DTSTART:20181209T110000Z
DTEND:20181209T120000Z
LOCATION:
SUMMARY:FarkashÃ¡zi RÃ©ka Ã©s a TintanyÃºl  karÃ¡csonyvÃ¡rÃ³ koncertje
DESCRIPTION:2018-ban megszÃ¼letett RÃ©ka harmadik gyermeke\,  Ã©s ezÃ¡ltal 
 mÃ©g inkÃ¡bb igaz lett a sokak Ã¡ltal kedvelt dal mottÃ³ja: a csalÃ¡d a leg
 nagyobb kincs! A kis csalÃ¡don kÃ­vÃ¼l a Tintanyulak nagy csalÃ¡djÃ¡t is vÃ
 ¡rja a kÃ©tszeres Fonogram-dÃ­jas zenekar egy vidÃ¡m karÃ¡csonyvÃ¡rÃ³ konce
 rtre\,  ahol felhangzanak rÃ©gebbi kedvenc bulizÃ³s dalok\,  Ã©s az Ã¼nnepr
 e kÃ©szÃ¼lÅ‘dÃ©s[..]\nhttps://momkult.hu/events/farkashazi-reka-es-a-tintan
 yul-karacsonyvaro-koncertje/
URL:https://momkult.hu/events/farkashazi-reka-es-a-tintanyul-karacsonyvaro-koncertje/
END:VEVENT
END:VCALENDAR