BEGIN:VCALENDAR
VERSION:2.0
PRODID:-//eventon.com NONSGML v1.0//EN
CALSCALE:GREGORIAN
METHOD:PUBLISH
BEGIN:VEVENT
UID:69eb7341489c1
DTSTAMP:20260424T134225Z
DTSTART:20181118T160000Z
DTEND:20181118T180000Z
LOCATION:
SUMMARY:A hontalanság hitvallása | Az Erdélyi Helikon Íróinak 8. Jubileumi Ünnepsége
DESCRIPTION:Immár 8. alkalommal kerül megrendezésre az Erdélyi Helikon 
 íróinak jubileumi ünnepsége. Az évente tartott eseményen megemlékezn
 ek a helikonista írókról\,  akiknek az adott évben van születésének 
 vagy halálának jubileumi évfordulója. Az előadást zenei betétek szí
 nesítik. Az előadás szünetében\,  témával kapcsolatos antikvár kön
 yvek vásárára kerül sor. Az Erdélyi Helikon írói\,  akikről az[..]\
 nhttps://momkult.hu/events/a-hontalansag-hitvallasa-az-erdelyi-helikon-iroi
 nak-8-jubileumi-unnepsege/
URL:https://momkult.hu/events/a-hontalansag-hitvallasa-az-erdelyi-helikon-iroinak-8-jubileumi-unnepsege/
END:VEVENT
END:VCALENDAR