BEGIN:VCALENDAR
VERSION:2.0
PRODID:-//eventon.com NONSGML v1.0//EN
CALSCALE:GREGORIAN
METHOD:PUBLISH
BEGIN:VEVENT
UID:69eb6029f3a0a
DTSTAMP:20260424T122057Z
DTSTART:20181212T190000Z
DTEND:20181212T210000Z
LOCATION:
SUMMARY:XMAS Swing
DESCRIPTION:A karácsonyi ünnep legismertebb melódiái\,  swing és jazz 
 slágerei hangzanak el Szűcs Gabi és héttagú zenekarának tolmácsolás
 ában. A koncerten közreműködik: a veszprémi Mendelssohn Kamarazenekar 
 vonósnégyese. Megannyi ismert karácsonyi sláger Ella Fitzgerald\,  Dea
 n Martin\,  Nat King Cole\,  Bing Crosby dalai közül az Emerton- és Fon
 ogram-díjas énekesnő és zenekara tolmácsolásában. A ’40-es\,  ’5
 0-es évek[..]\nhttps://momkult.hu/events/xmas-swing-szucs-gabi-karacsonyi-
 koncertje/
URL:https://momkult.hu/events/xmas-swing-szucs-gabi-karacsonyi-koncertje/
END:VEVENT
END:VCALENDAR