BEGIN:VCALENDAR
VERSION:2.0
PRODID:-//eventon.com NONSGML v1.0//EN
CALSCALE:GREGORIAN
METHOD:PUBLISH
BEGIN:VEVENT
UID:69eaacc3b02e9
DTSTAMP:20260423T233531Z
DTSTART:20190323T190000Z
DTEND:20190323T203000Z
LOCATION:
SUMMARY:Több\,  mint koncert! | Én az időt nem sajnálom | Vörös István
DESCRIPTION:A hazai kultrock képviselője\,  Vörös István „Több\,  m
 int koncert!”címmel újból színpadra lép. A koncert vendégei: Szt. M
 artin Jankai Béla Krúlik vonósnégyes A koncert napján megjelenik az &#
 8222;Én az időt nem sajnálom&#8221; című életrajzi könyv. A könyv m
 elléklete a  MOM Kulturális Központban rögzített jubileumi koncert D
 VD-je lesz.\nhttps://momkult.hu/events/tobb-mint-koncert-en-az-idot-nem-saj
 nalom-voros-istvan/
URL:https://momkult.hu/events/tobb-mint-koncert-en-az-idot-nem-sajnalom-voros-istvan/
END:VEVENT
END:VCALENDAR