BEGIN:VCALENDAR
VERSION:2.0
PRODID:-//eventon.com NONSGML v1.0//EN
CALSCALE:GREGORIAN
METHOD:PUBLISH
BEGIN:VEVENT
UID:69eaf4f63fe31
DTSTAMP:20260424T044334Z
DTSTART:20190223T110000Z
DTEND:20190223T120000Z
LOCATION:
SUMMARY:HangszerbemutatÃ³ koncert gyerekeknek
DESCRIPTION:A Cziffra FesztivÃ¡l Ã©s a VirtuÃ³zok fiatal dÃ­jazottjainak kÃ
 ¶zremÅ±kÃ¶dÃ©sÃ©velÂ  A koncert fÅ‘ tÃ¡mogatÃ³ja : MVM Magyar VillamosmÅ±ve
 k Zrt. Cziffra FesztivÃ¡lMinden jegy elkelt\nhttps://momkult.hu/events/hang
 szerbemutato-koncert-gyerekeknek/
URL:https://momkult.hu/events/hangszerbemutato-koncert-gyerekeknek/
END:VEVENT
END:VCALENDAR