BEGIN:VCALENDAR
VERSION:2.0
PRODID:-//eventon.com NONSGML v1.0//EN
CALSCALE:GREGORIAN
METHOD:PUBLISH
BEGIN:VEVENT
UID:69eaf4f63e1d7
DTSTAMP:20260424T044334Z
DTSTART:20190220T193000Z
DTEND:20190220T204000Z
LOCATION:
SUMMARY:„Az improvizáció” - Rúzsa Magdolna és Balázs János estje | CZF 2019
DESCRIPTION:Rúzsa Magdolna és Balázs János estje Dalok\,  népdalok és
  zongora átiratok (Bartók\,  Kodály\,  Liszt\,  Brahms&#8230;) A népzen
 e és műzene egymásra hatása nem a 20. század találmánya\,  még ha B
 artók és Kodály népzenei gyűjtései és a hatásuk nyomán keletkezett
  remekművek nyomán joggal is mondhatjuk\,  hogy az ő zsenialitásuk új 
 minőséget teremtett.[..]\nhttps://momkult.hu/events/az-improvizacio-ruzsa
 -magdolna-es-balazs-janos-estje-czf-2019/
URL:https://momkult.hu/events/az-improvizacio-ruzsa-magdolna-es-balazs-janos-estje-czf-2019/
END:VEVENT
END:VCALENDAR