BEGIN:VCALENDAR
VERSION:2.0
PRODID:-//eventon.com NONSGML v1.0//EN
CALSCALE:GREGORIAN
METHOD:PUBLISH
BEGIN:VEVENT
UID:69eaf5afb13df
DTSTAMP:20260424T044639Z
DTSTART:20190218T193000Z
DTEND:20190218T211000Z
LOCATION:
SUMMARY:Nyitókoncert | CZF 2019
DESCRIPTION:Bogányi Gergely (zongora)\,  Kállai Vonósnégyes\,  Isabelle
  Oehmichen (zongora)\,  Massimo Mercelli (fuvola) Schubert: Gesz-dúr impro
 mptu\,  op. 90\,  no.3\,  Liszt: A Villa d’Este szökőkútjai\,  Chopin:
  Fisz-dúr noktürn\,  op. 15/2\,  Magin: Triptyque Polonais\,  (Oehmichen)
 \,  Mozart: D-dúr fuvolanégyes\,  KV 285 (Mercelli\,  Kállai Vonósnégy
 es) *** Schumann: Esz-dúr zongoraötös\,  op. 44\,  (Bogányi\,  Kállai 
 Vonósnégyes) A Cziffra[..]\nhttps://momkult.hu/events/nyitokoncert-czf-20
 19/
URL:https://momkult.hu/events/nyitokoncert-czf-2019/
END:VEVENT
END:VCALENDAR