BEGIN:VCALENDAR
VERSION:2.0
PRODID:-//eventon.com NONSGML v1.0//EN
CALSCALE:GREGORIAN
METHOD:PUBLISH
BEGIN:VEVENT
UID:69eaf5454beed
DTSTAMP:20260424T044453Z
DTSTART:20190219T190000Z
DTEND:20190219T204500Z
LOCATION:
SUMMARY:„A katarzis” – Cimbalomesttel egybekötött beszélgetés | CZF 2019
DESCRIPTION:A tudomány és a művészet három kiemelkedő egyénisége eg
 y rögtönzött\,  kötetlen beszélgetés kapcsán mondja el véleményét
  és tapasztalatát a katarzis lényegéről izgalmas történeteiken\,  eg
 yedi élményeiken és sajátos meglátásaikon keresztül. Ebben a témáb
 an még nem ült asztalhoz Nagy-Kálózy Eszter színművésznő\,  Dr. Fre
 und Tamás neurobiológus és Lackfi János író\,  költő. A zenei[..]\n
 https://momkult.hu/events/a-katarzis-kerekasztal-beszelgetes-es-cimbalom-es
 t-czf-2019/
URL:https://momkult.hu/events/a-katarzis-kerekasztal-beszelgetes-es-cimbalom-est-czf-2019/
END:VEVENT
END:VCALENDAR