BEGIN:VCALENDAR
VERSION:2.0
PRODID:-//eventon.com NONSGML v1.0//EN
CALSCALE:GREGORIAN
METHOD:PUBLISH
BEGIN:VEVENT
UID:69eb894598979
DTSTAMP:20260424T151621Z
DTSTART:20181107T223000Z
DTEND:20181107T235900Z
LOCATION:
SUMMARY:Victor Wooten Trio feat. Dennis Chambers & Bob Franceschini
DESCRIPTION:Az ötszörös Grammy-díjas Victor Wooten a világ egyik legjo
 bb basszusgitárosa. A Flecktones tagjaként\,  Mike Stern\,  Richard Bona\
 ,  Marcus Miller és mások társaként is egyaránt zseniális. Szupergrup
 pozik Marcus Millerrel és Stanley Clarke-kal\,  beugrik Chick Corea Elektr
 ic Bandjébe\,  de ami a legfontosabb: saját zenekarával\,  a Victor Woot
 en Trio-val turnézik és örömzenél. Dennis[..]\nhttps://momkult.hu/even
 ts/victor-wooten-trio-feat-dennis-chambers-bob-franceschini-2/
URL:https://momkult.hu/events/victor-wooten-trio-feat-dennis-chambers-bob-franceschini-2/
END:VEVENT
END:VCALENDAR