BEGIN:VCALENDAR
VERSION:2.0
PRODID:-//eventon.com NONSGML v1.0//EN
CALSCALE:GREGORIAN
METHOD:PUBLISH
BEGIN:VEVENT
UID:69ebb01c7a39b
DTSTAMP:20260424T180204Z
DTSTART:20181006T190000Z
DTEND:20181006T203000Z
LOCATION:
SUMMARY:Brian Culbertson
DESCRIPTION:A Jazzy Fesztivál keretében\,  október 6-án fellép napjain
 k legismertebb\,  Amerika egyik legnépszerűbb és legfunkybb jazz zongori
 stája\,  Brian Culbertson.\nhttps://momkult.hu/events/brian-culbertson-2/
URL:https://momkult.hu/events/brian-culbertson-2/
END:VEVENT
END:VCALENDAR