BEGIN:VCALENDAR
VERSION:2.0
PRODID:-//eventon.com NONSGML v1.0//EN
CALSCALE:GREGORIAN
METHOD:PUBLISH
BEGIN:VEVENT
UID:69eb433c2c199
DTSTAMP:20260424T101732Z
DTSTART:20181214T190000Z
DTEND:20181214T210000Z
LOCATION:
SUMMARY:JazzkÃ­vÃ¡nsÃ¡gmÅ±sor magyarul | SÃ¡rik PÃ©ter TriÃ³ & Falusi Mariann
DESCRIPTION:FolytatÃ³dik a SÃ¡rik PÃ©ter TriÃ³ sikersorozata\,  a JazzkÃ­vÃ
 ¡nsÃ¡gmÅ±sor. Az Ãºj sorozatban kizÃ¡rÃ³lag magyar dalok hallhatÃ³k\,  a cs
 apat az elmÃºlt Ã©vtizedek legnagyobb hazai slÃ¡gereibÅ‘l vÃ¡logatott Ã©s d
 olgozta Ã¡t azokat a sajÃ¡t stÃ­lusÃ¡ra. A TriÃ³hoz most Falusi Mariann csa
 tlakozott. A JazzkÃ­vÃ¡nsÃ¡gmÅ±sor lemezen 15 dal hallhatÃ³\,  mÃ¡s idÅ‘sza
 kbÃ³l Ã©s mÃ¡s stÃ­lusbÃ³l. A kÃ¶zÃ¶s[..]\nhttps://momkult.hu/events/jazzki
 vansagmusor-magyarul-sarik-peter-trio-falusi-mariann/
URL:https://momkult.hu/events/jazzkivansagmusor-magyarul-sarik-peter-trio-falusi-mariann/
END:VEVENT
END:VCALENDAR