BEGIN:VCALENDAR
VERSION:2.0
PRODID:-//eventon.com NONSGML v1.0//EN
CALSCALE:GREGORIAN
METHOD:PUBLISH
BEGIN:VEVENT
UID:69ebb3a4f3129
DTSTAMP:20260424T181708Z
DTSTART:20180930T100000Z
DTEND:20180930T113000Z
LOCATION:
SUMMARY:Al Ghaoui Hesna â€“ Holli\,  a hÅ‘s
DESCRIPTION:A kÃ¶nyvbemutatÃ³n a szerzÅ‘vel Ruff Orsi ÃºjsÃ¡gÃ­rÃ³ beszÃ©lg
 et\,  zenÃ©l a MintaPinty Zenekar\,  kÃ¶zremÅ±kÃ¶dik BerÃ©nyi MÃ¡rta\,  a P
 iros KakaÃ³ drÃ¡mapedagÃ³gusa. Holli rettenetesen izgul az iskolai fellÃ©pÃ
 ©se miatt. Ekkor szegÅ‘dik mellÃ© a barÃ¡tsÃ¡gos hÃ¡zirÃ©m\,  Mumus\,  akit
 Å‘l a kislÃ¡ny megtanulja\,  hogyan Ã¡llÃ­thatja a fÃ©lelmet a sajÃ¡t oldal
 Ã¡ra. Kalandjaik sorÃ¡n kiderÃ¼l\,  hogy a fÃ©lelem[..]\nhttps://momkult.hu
 /events/holli-a-hos-mese-arrol-hogyan-felj-batran-al-ghaoui-hesna/
URL:https://momkult.hu/events/holli-a-hos-mese-arrol-hogyan-felj-batran-al-ghaoui-hesna/
END:VEVENT
END:VCALENDAR